BEGIN:VCALENDAR
VERSION:2.0
PRODID:-//Shatara Curry - ECPv6.15.15//NONSGML v1.0//EN
CALSCALE:GREGORIAN
METHOD:PUBLISH
X-WR-CALNAME:Shatara Curry
X-ORIGINAL-URL:https://shataracurry.com
X-WR-CALDESC:Events for Shatara Curry
REFRESH-INTERVAL;VALUE=DURATION:PT1H
X-Robots-Tag:noindex
X-PUBLISHED-TTL:PT1H
BEGIN:VTIMEZONE
TZID:America/New_York
BEGIN:DAYLIGHT
TZOFFSETFROM:-0500
TZOFFSETTO:-0400
TZNAME:EDT
DTSTART:20250309T070000
END:DAYLIGHT
BEGIN:STANDARD
TZOFFSETFROM:-0400
TZOFFSETTO:-0500
TZNAME:EST
DTSTART:20251102T060000
END:STANDARD
BEGIN:DAYLIGHT
TZOFFSETFROM:-0500
TZOFFSETTO:-0400
TZNAME:EDT
DTSTART:20260308T070000
END:DAYLIGHT
BEGIN:STANDARD
TZOFFSETFROM:-0400
TZOFFSETTO:-0500
TZNAME:EST
DTSTART:20261101T060000
END:STANDARD
BEGIN:DAYLIGHT
TZOFFSETFROM:-0500
TZOFFSETTO:-0400
TZNAME:EDT
DTSTART:20270314T070000
END:DAYLIGHT
BEGIN:STANDARD
TZOFFSETFROM:-0400
TZOFFSETTO:-0500
TZNAME:EST
DTSTART:20271107T060000
END:STANDARD
END:VTIMEZONE
BEGIN:VEVENT
DTSTART;TZID=America/New_York:20260227T200000
DTEND;TZID=America/New_York:20260227T220000
DTSTAMP:20260421T124655
CREATED:20260208T194016Z
LAST-MODIFIED:20260227T035432Z
UID:731-1772222400-1772229600@shataracurry.com
SUMMARY:Friday Night Laughs
DESCRIPTION:Jamie Roberts hosts Friday Night Laughs at Comedy In Harlem with an all star line-up.
URL:https://shataracurry.com/event/friday-night-laughs/
ATTACH;FMTTYPE=image/png:https://shataracurry.com/wp-content/uploads/2026/02/png-CH-26E70011-7C9B-41DF-A350-6AB25FF79784.png
END:VEVENT
END:VCALENDAR