BEGIN:VCALENDAR
VERSION:2.0
PRODID:-//Shatara Curry - ECPv6.15.15//NONSGML v1.0//EN
CALSCALE:GREGORIAN
METHOD:PUBLISH
X-WR-CALNAME:Shatara Curry
X-ORIGINAL-URL:https://shataracurry.com
X-WR-CALDESC:Events for Shatara Curry
REFRESH-INTERVAL;VALUE=DURATION:PT1H
X-Robots-Tag:noindex
X-PUBLISHED-TTL:PT1H
BEGIN:VTIMEZONE
TZID:America/New_York
BEGIN:DAYLIGHT
TZOFFSETFROM:-0500
TZOFFSETTO:-0400
TZNAME:EDT
DTSTART:20250309T070000
END:DAYLIGHT
BEGIN:STANDARD
TZOFFSETFROM:-0400
TZOFFSETTO:-0500
TZNAME:EST
DTSTART:20251102T060000
END:STANDARD
BEGIN:DAYLIGHT
TZOFFSETFROM:-0500
TZOFFSETTO:-0400
TZNAME:EDT
DTSTART:20260308T070000
END:DAYLIGHT
BEGIN:STANDARD
TZOFFSETFROM:-0400
TZOFFSETTO:-0500
TZNAME:EST
DTSTART:20261101T060000
END:STANDARD
BEGIN:DAYLIGHT
TZOFFSETFROM:-0500
TZOFFSETTO:-0400
TZNAME:EDT
DTSTART:20270314T070000
END:DAYLIGHT
BEGIN:STANDARD
TZOFFSETFROM:-0400
TZOFFSETTO:-0500
TZNAME:EST
DTSTART:20271107T060000
END:STANDARD
END:VTIMEZONE
BEGIN:VEVENT
DTSTART;TZID=America/New_York:20260328T080000
DTEND;TZID=America/New_York:20260328T220000
DTSTAMP:20260421T183640
CREATED:20260311T000436Z
LAST-MODIFIED:20260311T000436Z
UID:793-1774684800-1774735200@shataracurry.com
SUMMARY:Women's History Month Comedy Show
DESCRIPTION:Howie Bell & Friends presents Women’s History Month Comedy Show at NYC’ Legacy Club \nFeaturing Funny Women only!! Comedians Meghan Rose\, Sofia Negron\, Shatara Curry and Ashima Franklin.
URL:https://shataracurry.com/event/womens-history-month-comedy-show/
ATTACH;FMTTYPE=image/jpeg:https://shataracurry.com/wp-content/uploads/2026/03/IMG_6931.jpg
END:VEVENT
BEGIN:VEVENT
DTSTART;TZID=America/New_York:20260322T200000
DTEND;TZID=America/New_York:20260322T220000
DTSTAMP:20260421T183640
CREATED:20260218T051818Z
LAST-MODIFIED:20260218T052048Z
UID:774-1774209600-1774216800@shataracurry.com
SUMMARY:Comedy Show
DESCRIPTION:Cherry Hill\, NJ let’s go!! \nDoors open 7pm Showtime 8pm
URL:https://shataracurry.com/event/comedy-show/
END:VEVENT
BEGIN:VEVENT
DTSTART;TZID=America/New_York:20260314T200000
DTEND;TZID=America/New_York:20260314T220000
DTSTAMP:20260421T183640
CREATED:20260208T200058Z
LAST-MODIFIED:20260208T200058Z
UID:734-1773518400-1773525600@shataracurry.com
SUMMARY:Saturday Night Comedy Live
DESCRIPTION:Poppy Brown Comedy Promotions Presents Saturday Night Comedy Live\, East Stroudsburg\, PA \nPunchlines Comedy Theatre \nPocono Cinema & Cultural Center
URL:https://shataracurry.com/event/saturday-night-comedy-live/
ATTACH;FMTTYPE=image/jpeg:https://shataracurry.com/wp-content/uploads/2026/02/Flyerpoconos.jpeg
END:VEVENT
BEGIN:VEVENT
DTSTART;TZID=America/New_York:20260313T193000
DTEND;TZID=America/New_York:20260313T213000
DTSTAMP:20260421T183640
CREATED:20260218T052349Z
LAST-MODIFIED:20260218T052455Z
UID:776-1773430200-1773437400@shataracurry.com
SUMMARY:Comedy Show
DESCRIPTION:Empowerment Studio 51 \nNewark\, NJ \n 
URL:https://shataracurry.com/event/comedy-show-2/
END:VEVENT
BEGIN:VEVENT
DTSTART;TZID=America/New_York:20260308T140000
DTEND;TZID=America/New_York:20260308T160000
DTSTAMP:20260421T183640
CREATED:20260218T053823Z
LAST-MODIFIED:20260227T035557Z
UID:779-1772978400-1772985600@shataracurry.com
SUMMARY:Comedian Nikki Carr & Friends
DESCRIPTION:The New York Collaborative & Goodlife Enterprises Presents Comedian Nikki Carr & Friends \nShatara Curry & Joanna Briley Celebrating Women History Month And Black Woman In Comedy at NYC’ Comedy In Harlem\, Harlem’s Home for Comedy \nDoors Open 1:30pm \nShowtime 2pm
URL:https://shataracurry.com/event/comedian-nikki-carr-friends/
ATTACH;FMTTYPE=image/jpeg:https://shataracurry.com/wp-content/uploads/2026/02/image000000.jpg
END:VEVENT
BEGIN:VEVENT
DTSTART;TZID=America/New_York:20260228T190000
DTEND;TZID=America/New_York:20260228T220000
DTSTAMP:20260421T183640
CREATED:20260208T191137Z
LAST-MODIFIED:20260208T191137Z
UID:725-1772305200-1772316000@shataracurry.com
SUMMARY:Bluez Comedy Series
DESCRIPTION:Come Check Comedian Shatara Curry out at Hillside\, NJ
URL:https://shataracurry.com/event/bluez-comedy-series/
ATTACH;FMTTYPE=image/jpeg:https://shataracurry.com/wp-content/uploads/2026/02/Flyer2.jpg-.jpg
ORGANIZER;CN="Shatara Curry":MAILTO:shatara.curry7@gmail.com
END:VEVENT
BEGIN:VEVENT
DTSTART;TZID=America/New_York:20260227T200000
DTEND;TZID=America/New_York:20260227T220000
DTSTAMP:20260421T183640
CREATED:20260208T194016Z
LAST-MODIFIED:20260227T035432Z
UID:731-1772222400-1772229600@shataracurry.com
SUMMARY:Friday Night Laughs
DESCRIPTION:Jamie Roberts hosts Friday Night Laughs at Comedy In Harlem with an all star line-up.
URL:https://shataracurry.com/event/friday-night-laughs/
ATTACH;FMTTYPE=image/png:https://shataracurry.com/wp-content/uploads/2026/02/png-CH-26E70011-7C9B-41DF-A350-6AB25FF79784.png
END:VEVENT
BEGIN:VEVENT
DTSTART;TZID=America/New_York:20260213T200000
DTEND;TZID=America/New_York:20260213T220000
DTSTAMP:20260421T183640
CREATED:20260208T052756Z
LAST-MODIFIED:20260208T052756Z
UID:719-1771012800-1771020000@shataracurry.com
SUMMARY:Pre_Valentine Day Comedy Show
DESCRIPTION:Come have some fun with Shatara and the crew
URL:https://shataracurry.com/event/pre_valentine-day-comedy-show/
LOCATION:The Rock Billiards\, 348 Beach 72st\, Arvene\, NY\, United States
ATTACH;FMTTYPE=image/jpeg:https://shataracurry.com/wp-content/uploads/2026/02/IMG_9799.jpeg
ORGANIZER;CN="Shatara Curry":MAILTO:shatara.curry7@gmail.com
END:VEVENT
END:VCALENDAR